BEGIN:VCALENDAR
VERSION:2.0
PRODID:icalendar-ruby
CALSCALE:GREGORIAN
BEGIN:VEVENT
DTSTAMP:20210122T150723Z
UID:0145dc72-7825-4ac3-a3f7-caa65329428e
DTSTART;TZID=Pacific/Auckland:20210123T130000
DTEND;TZID=Pacific/Auckland:20210123T140000
DESCRIPTION:Property ID# 498847
SUMMARY:Openhome for 52 Bream Bay Drive
END:VEVENT
END:VCALENDAR
