BEGIN:VCALENDAR
VERSION:2.0
PRODID:icalendar-ruby
CALSCALE:GREGORIAN
BEGIN:VEVENT
DTSTAMP:20210122T145153Z
UID:8102a6a8-6efb-4e8c-9d97-d781c2dd1b84
DTSTART;VALUE=DATE:20210219
DESCRIPTION:Property ID# 499853\, Locatoin: Harcourts\, Level 2\, 33-35 Rat
 hbone Street\, Whangarei\, Time: 12:00PM
SUMMARY:Auction for 41 Churchill Street
END:VEVENT
END:VCALENDAR
