BEGIN:VCALENDAR
VERSION:2.0
PRODID:icalendar-ruby
CALSCALE:GREGORIAN
BEGIN:VEVENT
DTSTAMP:20210122T145159Z
UID:62e38528-d7bd-4e24-8b69-4fc95957b6c7
DTSTART;VALUE=DATE:20210217
DESCRIPTION:Property ID# 499655\, Time: 4:00PM
SUMMARY:Auction for 34 Station Road
END:VEVENT
END:VCALENDAR
