BEGIN:VCALENDAR
VERSION:2.0
PRODID:icalendar-ruby
CALSCALE:GREGORIAN
BEGIN:VEVENT
DTSTAMP:20210122T150344Z
UID:9ca80e9d-d08e-4d9f-b2a2-0df70345ae80
DTSTART;VALUE=DATE:20210210
DESCRIPTION:Property ID# 499261\, Time: 4:00PM
SUMMARY:Auction for 3659 Mangakahia Rd
END:VEVENT
END:VCALENDAR
