BEGIN:VCALENDAR
VERSION:2.0
PRODID:icalendar-ruby
CALSCALE:GREGORIAN
BEGIN:VEVENT
DTSTAMP:20210122T150726Z
UID:4d6a4704-0a89-431b-ac07-065df1a8ad2c
DTSTART;VALUE=DATE:20210219
DESCRIPTION:Property ID# 498847\, Locatoin: Harcourts Whangarei\, Time: 12:
 00PM
SUMMARY:Auction for 52 Bream Bay Drive
END:VEVENT
END:VCALENDAR
