BEGIN:VCALENDAR
VERSION:2.0
PRODID:icalendar-ruby
CALSCALE:GREGORIAN
BEGIN:VEVENT
DTSTAMP:20210122T145928Z
UID:ba1712b6-e177-40ed-8593-ddc23bb1b641
DTSTART;VALUE=DATE:20201209
DESCRIPTION:Property ID# 495845\, Locatoin: Set Date of Sale 9th December 2
 020 (unless sold prior)\, Time: 4:00PM
SUMMARY:Auction for 
END:VEVENT
END:VCALENDAR
