BEGIN:VCALENDAR
VERSION:2.0
PRODID:icalendar-ruby
CALSCALE:GREGORIAN
BEGIN:VEVENT
DTSTAMP:20210122T150727Z
UID:c33d8a96-496f-4a58-bec9-26dae2d27850
DTSTART;VALUE=DATE:20201204
DESCRIPTION:Property ID# 493757\, Locatoin: Harcourts Whangarei - 33 - 35 R
 obert St\, Whangarei\, Time: 12:00PM
SUMMARY:Auction for 
END:VEVENT
END:VCALENDAR
