BEGIN:VCALENDAR
VERSION:2.0
PRODID:icalendar-ruby
CALSCALE:GREGORIAN
BEGIN:VEVENT
DTSTAMP:20210122T145950Z
UID:5f60ee62-8fd7-43da-bce3-8cf725f17424
DTSTART;VALUE=DATE:20201120
DESCRIPTION:Property ID# 493508\, Locatoin: Level 2\, 33-35 Robert Street\,
  Whangarei\, Time: 12:00PM
SUMMARY:Auction for 
END:VEVENT
END:VCALENDAR
