BEGIN:VCALENDAR
VERSION:2.0
PRODID:icalendar-ruby
CALSCALE:GREGORIAN
BEGIN:VEVENT
DTSTAMP:20210122T145927Z
UID:e08b7faa-565d-4dda-9569-97e52e06d845
DTSTART;VALUE=DATE:20201111
DESCRIPTION:Property ID# 491916\, Time: 4:00PM
SUMMARY:Auction for 617 Crane Road
END:VEVENT
END:VCALENDAR
