BEGIN:VCALENDAR
VERSION:2.0
PRODID:icalendar-ruby
CALSCALE:GREGORIAN
BEGIN:VEVENT
DTSTAMP:20210119T181100Z
UID:a4212dcc-6be6-4b42-9438-b70ee2d976c6
DTSTART;VALUE=DATE:20201111
DESCRIPTION:Property ID# 491137\, Time: 12:00PM
SUMMARY:Auction for 
END:VEVENT
END:VCALENDAR
