BEGIN:VCALENDAR
VERSION:2.0
PRODID:icalendar-ruby
CALSCALE:GREGORIAN
BEGIN:VEVENT
DTSTAMP:20210122T145931Z
UID:41c256eb-98f5-412e-908f-99c5cc7691d2
DTSTART;VALUE=DATE:20201021
DESCRIPTION:Property ID# 490992\, Locatoin: Set Date of Sale 21 October (un
 less sold prior)\, Time: 4:00PM
SUMMARY:Auction for 
END:VEVENT
END:VCALENDAR
