BEGIN:VCALENDAR
VERSION:2.0
PRODID:icalendar-ruby
CALSCALE:GREGORIAN
BEGIN:VEVENT
DTSTAMP:20210122T150729Z
UID:cb11f887-5ce8-4057-90f5-ba6b4fde285e
DTSTART;VALUE=DATE:20201002
DESCRIPTION:Property ID# 487860\, Locatoin: Harcourts Whangarei - 33 - 35 R
 obert St\, Whangarei\, Time: 12:00PM
SUMMARY:Auction for 
END:VEVENT
END:VCALENDAR
