BEGIN:VCALENDAR
VERSION:2.0
PRODID:icalendar-ruby
CALSCALE:GREGORIAN
BEGIN:VEVENT
DTSTAMP:20210122T150730Z
UID:72b7f7e1-17d7-4eb9-9053-7e9ef8195d96
DTSTART;VALUE=DATE:20200828
DESCRIPTION:Property ID# 485874\, Locatoin: Harcourts Whangarei - 33 - 35 R
 obert St\, Whangarei\, Time: 12:00PM
SUMMARY:Auction for 
END:VEVENT
END:VCALENDAR
