BEGIN:VCALENDAR
VERSION:2.0
PRODID:icalendar-ruby
CALSCALE:GREGORIAN
BEGIN:VEVENT
DTSTAMP:20210122T145933Z
UID:e8a983bd-7ae1-4c4f-8615-8921c352df8c
DTSTART;VALUE=DATE:20200805
DESCRIPTION:Property ID# 484483\, Time: 4:00PM
SUMMARY:Auction for 
END:VEVENT
END:VCALENDAR
