BEGIN:VCALENDAR
VERSION:2.0
PRODID:icalendar-ruby
CALSCALE:GREGORIAN
BEGIN:VEVENT
DTSTAMP:20210122T145919Z
UID:520ffd13-2291-4322-afd5-cce9e0b30e11
DTSTART;VALUE=DATE:20200415
DESCRIPTION:Property ID# 474924\, Time: 4:00PM
SUMMARY:Auction for 
END:VEVENT
END:VCALENDAR
