BEGIN:VCALENDAR
VERSION:2.0
PRODID:icalendar-ruby
CALSCALE:GREGORIAN
BEGIN:VEVENT
DTSTAMP:20210119T181106Z
UID:1df64e8a-7c51-47a8-af47-cbfb264e01b5
DTSTART;VALUE=DATE:20200318
DESCRIPTION:Property ID# 473205\, Time: 4:00PM
SUMMARY:Auction for 
END:VEVENT
END:VCALENDAR
