BEGIN:VCALENDAR
VERSION:2.0
PRODID:icalendar-ruby
CALSCALE:GREGORIAN
BEGIN:VEVENT
DTSTAMP:20210119T181932Z
UID:d3938597-65e8-48c2-aae1-6543ba78ceb0
DTSTART;VALUE=DATE:20200514
DESCRIPTION:Property ID# 472785\, Locatoin: Harcourts Whangarei - 33 - 35 R
 obert St\, Whangarei\, Time: 12:00PM
SUMMARY:Auction for 
END:VEVENT
END:VCALENDAR
