BEGIN:VCALENDAR
VERSION:2.0
PRODID:icalendar-ruby
CALSCALE:GREGORIAN
BEGIN:VEVENT
DTSTAMP:20260424T143906Z
UID:7781a7fa-b0c3-4234-afd1-afe70cab1e04
DTSTART;VALUE=DATE:20200304
DESCRIPTION:Property ID# 472409\, Time: 4:00PM
SUMMARY:Auction for 
END:VEVENT
END:VCALENDAR
