BEGIN:VCALENDAR
VERSION:2.0
PRODID:icalendar-ruby
CALSCALE:GREGORIAN
BEGIN:VEVENT
DTSTAMP:20210122T145942Z
UID:5b7ab5b6-bd3c-49d6-b8c0-d0d4850fdf9d
DTSTART;VALUE=DATE:20200205
DESCRIPTION:Property ID# 469264\, Time: 4:00PM
SUMMARY:Auction for 
END:VEVENT
END:VCALENDAR
