BEGIN:VCALENDAR
VERSION:2.0
PRODID:icalendar-ruby
CALSCALE:GREGORIAN
BEGIN:VEVENT
DTSTAMP:20210122T150345Z
UID:460c655b-5fa3-4271-ae22-4bcd67f1d83f
DTSTART;VALUE=DATE:20191212
DESCRIPTION:Property ID# 467366\, Locatoin: level 2\, 33-35 Robert Street\,
  Whangarei\, Time: 12:00PM
SUMMARY:Auction for 
END:VEVENT
END:VCALENDAR
