BEGIN:VCALENDAR
VERSION:2.0
PRODID:icalendar-ruby
CALSCALE:GREGORIAN
BEGIN:VEVENT
DTSTAMP:20210119T181125Z
UID:06ebe7d4-a240-479f-8a28-9e72e3fe2cec
DTSTART;VALUE=DATE:20191204
DESCRIPTION:Property ID# 466855\, Locatoin: Mike Pero Whangarei 4 Cameron S
 treet\, Whangarei\, Time: 12:00PM
SUMMARY:Auction for 
END:VEVENT
END:VCALENDAR
