BEGIN:VCALENDAR
VERSION:2.0
PRODID:icalendar-ruby
CALSCALE:GREGORIAN
BEGIN:VEVENT
DTSTAMP:20210122T145943Z
UID:72f4e39a-9343-4218-952a-ada0129897b9
DTSTART;VALUE=DATE:20191127
DESCRIPTION:Property ID# 466129\, Time: 12:00PM
SUMMARY:Auction for 
END:VEVENT
END:VCALENDAR
