BEGIN:VCALENDAR
VERSION:2.0
PRODID:icalendar-ruby
CALSCALE:GREGORIAN
BEGIN:VEVENT
DTSTAMP:20210119T181116Z
UID:0a2e5f6c-bed7-4571-93e7-41885ed0f00f
DTSTART;VALUE=DATE:20190904
DESCRIPTION:Property ID# 459275\, Time: 4:00PM
SUMMARY:Auction for 
END:VEVENT
END:VCALENDAR
