BEGIN:VCALENDAR
VERSION:2.0
PRODID:icalendar-ruby
CALSCALE:GREGORIAN
BEGIN:VEVENT
DTSTAMP:20210122T145946Z
UID:8e7fe57c-ad69-4e62-ba54-9c8ee19dad76
DTSTART;VALUE=DATE:20190821
DESCRIPTION:Property ID# 458523\, Time: 4:00PM
SUMMARY:Auction for 
END:VEVENT
END:VCALENDAR
